BEGIN:VCALENDAR
VERSION:2.0
PRODID:-//Lancaster &amp; Heysham School Sports Network - ECPv6.15.20//NONSGML v1.0//EN
CALSCALE:GREGORIAN
METHOD:PUBLISH
X-ORIGINAL-URL:https://www.lhssn.co.uk
X-WR-CALDESC:Events for Lancaster &amp; Heysham School Sports Network
REFRESH-INTERVAL;VALUE=DURATION:PT1H
X-Robots-Tag:noindex
X-PUBLISHED-TTL:PT1H
BEGIN:VTIMEZONE
TZID:UTC
BEGIN:STANDARD
TZOFFSETFROM:+0000
TZOFFSETTO:+0000
TZNAME:UTC
DTSTART:20240101T000000
END:STANDARD
END:VTIMEZONE
BEGIN:VEVENT
DTSTART;TZID=UTC:20251124T130000
DTEND;TZID=UTC:20251124T150000
DTSTAMP:20260419T132208
CREATED:20251023T105337Z
LAST-MODIFIED:20251023T120606Z
UID:3705-1763989200-1763996400@www.lhssn.co.uk
SUMMARY:SSN CPD Sensory Circuits & SEND activities & sports
DESCRIPTION:At The University of Cumbria Sports hall\, 1.00-3.15; 1-2 staff per school.\n\nThis practical based course is aimed at getting a better understanding of inclusive practices in the classroom and in PE environments. Looking specifically at Sensory Circuits. What they are\, how they can help and adapted for use in school with resources common to most educational settings.\n\nThe course will also look at inclusion in PE. Looking specifically at multiskills games and activities that can be easily adapted to suit the needs of all children including SEND\, children with limiting motor function and children who are neuro diverse.\n\nThe sesion will be delivered by Dan as well as Dave who will has Lancashire’s lead inclusion role and will give information on Youth Sport Trust’s Lead Inclusion School Programme.\n\nIt is for either SSN support staff or any other teachers in school.  Please wear appropriate footwear and clothing and drink.  There is no need to join in the acvtivities if required.
URL:https://www.lhssn.co.uk/event/ssn-cpd-sensory-circuits-send-activities-sports/
CATEGORIES:LHSSN
END:VEVENT
END:VCALENDAR