BEGIN:VCALENDAR
VERSION:2.0
PRODID:-//Lancaster &amp; Heysham School Sports Network - ECPv6.15.20//NONSGML v1.0//EN
CALSCALE:GREGORIAN
METHOD:PUBLISH
X-WR-CALNAME:Lancaster &amp; Heysham School Sports Network
X-ORIGINAL-URL:https://www.lhssn.co.uk
X-WR-CALDESC:Events for Lancaster &amp; Heysham School Sports Network
REFRESH-INTERVAL;VALUE=DURATION:PT1H
X-Robots-Tag:noindex
X-PUBLISHED-TTL:PT1H
BEGIN:VTIMEZONE
TZID:UTC
BEGIN:STANDARD
TZOFFSETFROM:+0000
TZOFFSETTO:+0000
TZNAME:UTC
DTSTART:20240101T000000
END:STANDARD
END:VTIMEZONE
BEGIN:VEVENT
DTSTART;TZID=UTC:20251126T094500
DTEND;TZID=UTC:20251126T120000
DTSTAMP:20260421T103341
CREATED:20250921T164859Z
LAST-MODIFIED:20250921T164859Z
UID:3448-1764150300-1764158400@www.lhssn.co.uk
SUMMARY:LVSSCO Swimming Gala
DESCRIPTION:THIS EVENT IS FOR LVSSCO MEMBER SCHOOLS ONLY. \n2025-26 LVSSCO Swimming Gala invitation \nCompetition Details: \n\nSpectators will not be allowed to attend this event as there will be no room\nSwimming Competition aimed at swimmers who can swim at least 25m\nAt BLA Swimming Pool\nWednesday 26th November\n9.45am start time\nApprox. 12.10pm finish time\nMinimum team of 4 boys and 4 girls selected from KS2\nExact list of events with team sheet will be emailed out to competing schools after the deadline entry date.  Will include; front crawl\, backstroke\, breaststroke\, butterfly\, relay and medley relay.
URL:https://www.lhssn.co.uk/event/lvssco-swimming-gala/
LOCATION:Bay Leadership Academy\, Bay Leadership Academy\, Morecambe\, Lancashire\, LA3 1AB\, United Kingdom
CATEGORIES:Lune Valley SSCO
END:VEVENT
BEGIN:VEVENT
DTSTART;TZID=UTC:20251126T130000
DTEND;TZID=UTC:20251126T153000
DTSTAMP:20260421T103341
CREATED:20250914T214222Z
LAST-MODIFIED:20250914T214222Z
UID:3340-1764162000-1764171000@www.lhssn.co.uk
SUMMARY:BLA SSCO SWIMMING GALA
DESCRIPTION:THIS EVENT IS FOR BLA SSCO MEMBER SCHOOLS ONLY. \n2025-26 BLA SSCO Year 5-6 Swimming Gala Invite \nCompetition Details: \n\nSpectators will not be allowed to attend this event as there will be no room poolside\nSwimming competition aimed at non club swimmers who can swim at least 25m\nAt BLA Swimming Pool\nWednesday 26th November 2025\n1.00pm start time\nApprox. 3.30pm finish time\nMinimum team of 5 boys and 5 girls selected from years 5 & 6\nExact list of events with team sheet will be emailed out to competing schools after the deadline entry date.  Will include; front crawl\, backstroke\, breaststroke\, butterfly\, relay and medley relay.\nDownload full invitation from above
URL:https://www.lhssn.co.uk/event/bla-ssco-swimming-gala-2/
LOCATION:Bay Leadership Academy\, Bay Leadership Academy\, Morecambe\, Lancashire\, LA3 1AB\, United Kingdom
CATEGORIES:BLA SSCo
END:VEVENT
END:VCALENDAR