BEGIN:VCALENDAR
VERSION:2.0
PRODID:-//Lancaster &amp; Heysham School Sports Network - ECPv6.15.20//NONSGML v1.0//EN
CALSCALE:GREGORIAN
METHOD:PUBLISH
X-ORIGINAL-URL:https://www.lhssn.co.uk
X-WR-CALDESC:Events for Lancaster &amp; Heysham School Sports Network
REFRESH-INTERVAL;VALUE=DURATION:PT1H
X-Robots-Tag:noindex
X-PUBLISHED-TTL:PT1H
BEGIN:VTIMEZONE
TZID:UTC
BEGIN:STANDARD
TZOFFSETFROM:+0000
TZOFFSETTO:+0000
TZNAME:UTC
DTSTART:20240101T000000
END:STANDARD
END:VTIMEZONE
BEGIN:VEVENT
DTSTART;TZID=UTC:20251127T090000
DTEND;TZID=UTC:20251127T113000
DTSTAMP:20260421T093458
CREATED:20251023T103612Z
LAST-MODIFIED:20251023T104037Z
UID:3700-1764234000-1764243000@www.lhssn.co.uk
SUMMARY:SSN CPD Support Staff Training & Active 60 minutes (LMC)
DESCRIPTION:We will have our ever popular support staff training at Lancaster & Morecambe College.  We will cover the importance of activity for young people and some simple strategies to help other staff in school support their PE leads and whole-school approaches to getting pupils active.  These will include ideas for lunchtimes\, classrooms and clubs… and the play ground! \nIt is mainly aimed at support staff but PE teachers may attend if they wish. \nAs it’s for support staff we’ve found 9.15-11.30 fits best\, between duties\, so hopefully you can send 1-4 members of staff along. PLease book each member on. \nIt is an active course so please wear approriate footwear and clothing and bring a drink. (you may simply watch practical activities if required). \nWe’ve done this for a few years and those involved have always left really glad they came and feedback is always brilliant!
URL:https://www.lhssn.co.uk/event/support-staff-training-active-60-minutes/
CATEGORIES:LHSSN
END:VEVENT
END:VCALENDAR