BEGIN:VCALENDAR
VERSION:2.0
PRODID:-//Lancaster &amp; Heysham School Sports Network - ECPv6.15.20//NONSGML v1.0//EN
CALSCALE:GREGORIAN
METHOD:PUBLISH
X-WR-CALNAME:Lancaster &amp; Heysham School Sports Network
X-ORIGINAL-URL:https://www.lhssn.co.uk
X-WR-CALDESC:Events for Lancaster &amp; Heysham School Sports Network
REFRESH-INTERVAL;VALUE=DURATION:PT1H
X-Robots-Tag:noindex
X-PUBLISHED-TTL:PT1H
BEGIN:VTIMEZONE
TZID:UTC
BEGIN:STANDARD
TZOFFSETFROM:+0000
TZOFFSETTO:+0000
TZNAME:UTC
DTSTART:20250101T000000
END:STANDARD
END:VTIMEZONE
BEGIN:VEVENT
DTSTART;TZID=UTC:20260422T093000
DTEND;TZID=UTC:20260422T153000
DTSTAMP:20260422T013624
CREATED:20260108T120255Z
LAST-MODIFIED:20260304T140251Z
UID:4165-1776850200-1776871800@www.lhssn.co.uk
SUMMARY:SSN Leadership Celebration Year 4/5/6 AM Session
DESCRIPTION:  \n  \nNON BOOKABLE EVENT!\nPLEASE CONTACT OWEN HANKEY VIA EMAIL\nS2504792@Uni.cumbria.ac.uk \n  \n  \n  \nDear PE Lead\, \nLeadership Festival – 22nd April 2026 \nThe University of Cumbria\, in partnership with Lancaster & Heysham School Sport Network\, is pleased to invite your school to attend a Leadership Festival to be held at the University of Cumbria\, Lancaster Campus. \nSupported by Dan Morris (LHSSN); This event will be delivered by University of Cumbria Sport students and is designed to provide pupils with an engaging leadership-focused sports experience\, promoting teamwork\, communication and confidence. The aim is to create a fun and encouraging session for the children\, with maximum enjoyment! \nTaster sessions \nUniversity students are also offering 1-hour taster sessions to Schools registered on to the event\, delivered at your school\, such as a practical dodgeball taster and offer information about the leadership festival. \nTo register for a taster day please Email: \nS2504792@Uni.cumbria.ac.uk | Owen Hankey \nLeadership Festival Event Details \nDate: Wednesday 22nd April 2026 Location: Sports Complex\, University of Cumbria\, Lancaster Campus\, Bowerham Road\, LA1 3JD. \nSession Options: \n\n10:00am – 11:45am\, (arrive for 09:30)\n12:30pm – 2:15pm\, (arrive for 12:00)\n\nFinal time allocations will be confirmed with schools once expressions of interest have been received. \nParticipant Criteria \n\nYear groups: Years 5\, 6 and 7\nMaximum of 10 pupils per year group\n\nEvent Format & Outcomes \nPupils will participate in structured leadership-based activities designed to: \n\nDevelop communication and teamwork skills\nIncrease confidence through practical activity\nExperience sport within a higher education environment\n\nFacilities & Practical Information \nParking is available at the Sports Complex car park\, please meet inside the sports complex reception\, and schools will be greeted. \n\nToilets and changing rooms available on site\nPupils should attend in appropriate PE kit\, coat\, sunscreen and a hat- weather depending.\nSuitable footwear required (no metal studs permitted on astroturf).\nPlease bring your schools first aid box.\n\nMore info: \nhttps://www.lhssn.co.uk/events/month/2026-04/ \nTo register for the event or questions please contact: \nS2504792@Uni.cumbria.ac.uk | Owen Hankey \nDeadline to book: 14th April 2026 \n  \nWe look forward to welcoming your pupils to the University of Cumbria. \nYours sincerely\, \nThe Leadership Festival Team  \nUniversity of Cumbria
URL:https://www.lhssn.co.uk/event/ssn-leadership-celebration-year-4-5-6/
CATEGORIES:LHSSN
END:VEVENT
END:VCALENDAR