BEGIN:VCALENDAR
VERSION:2.0
PRODID:-//Lancaster &amp; Heysham School Sports Network - ECPv6.15.20//NONSGML v1.0//EN
CALSCALE:GREGORIAN
METHOD:PUBLISH
X-WR-CALNAME:Lancaster &amp; Heysham School Sports Network
X-ORIGINAL-URL:https://www.lhssn.co.uk
X-WR-CALDESC:Events for Lancaster &amp; Heysham School Sports Network
REFRESH-INTERVAL;VALUE=DURATION:PT1H
X-Robots-Tag:noindex
X-PUBLISHED-TTL:PT1H
BEGIN:VTIMEZONE
TZID:UTC
BEGIN:STANDARD
TZOFFSETFROM:+0000
TZOFFSETTO:+0000
TZNAME:UTC
DTSTART:20250101T000000
END:STANDARD
END:VTIMEZONE
BEGIN:VEVENT
DTSTART;TZID=UTC:20260423T153000
DTEND;TZID=UTC:20260423T182000
DTSTAMP:20260423T025225
CREATED:20251125T100720Z
LAST-MODIFIED:20260324T150852Z
UID:3906-1776958200-1776968400@www.lhssn.co.uk
SUMMARY:BLA SSCO Boys Tag Rugby
DESCRIPTION:THIS EVENT IS FOR BLA SSCO MEMBER SCHOOLS ONLY. \n2025-26 SSCO Boys Tag Rugby Invite \nCompetition Details: \n\nSpectators will be allowed at this event but will need to stay outside the astro fence.\n\n\nDate:  Thursday 23rd April 2026\n\n\nVenue: Bay Leadership Academy (Astro Pitch)\nPLEASE WEAR APPROPRIATE FOOTWEAR\, NO METAL STUDS\n3.30pm start time\nWe will finish at approx. 6.20pm\nSquads selected from years 5 and 6 boys\n7 a side\, squads of up to 10\nMaximum 2 teams per school\nNo Contact\n2 Tags on your belt at all times\nPlease can schools bring their own tag belts\nNo Kicking\nNEW RULE: Teams have five tackles to score after receiving the ball\n\nPlease download the full invitation & rules from the link above. \n 
URL:https://www.lhssn.co.uk/event/bla-ssco-boys-tag-rugby/
LOCATION:Bay Leadership Academy\, Bay Leadership Academy\, Morecambe\, Lancashire\, LA3 1AB\, United Kingdom
CATEGORIES:BLA SSCo
END:VEVENT
END:VCALENDAR