BEGIN:VCALENDAR
VERSION:2.0
PRODID:-//Lancaster &amp; Heysham School Sports Network - ECPv6.15.20//NONSGML v1.0//EN
CALSCALE:GREGORIAN
METHOD:PUBLISH
X-WR-CALNAME:Lancaster &amp; Heysham School Sports Network
X-ORIGINAL-URL:https://www.lhssn.co.uk
X-WR-CALDESC:Events for Lancaster &amp; Heysham School Sports Network
REFRESH-INTERVAL;VALUE=DURATION:PT1H
X-Robots-Tag:noindex
X-PUBLISHED-TTL:PT1H
BEGIN:VTIMEZONE
TZID:UTC
BEGIN:STANDARD
TZOFFSETFROM:+0000
TZOFFSETTO:+0000
TZNAME:UTC
DTSTART:20240101T000000
END:STANDARD
END:VTIMEZONE
BEGIN:VEVENT
DTSTART;TZID=UTC:20250601T080000
DTEND;TZID=UTC:20250601T170000
DTSTAMP:20260419T220801
CREATED:20250521T151251Z
LAST-MODIFIED:20250521T151251Z
UID:2989-1748764800-1748797200@www.lhssn.co.uk
SUMMARY:Girls Euros Fixtures- At your schools!
DESCRIPTION:Schools are invited to be involved in a series of girls football matches that will take place at your own primary school\, or you can choose to simply do away matches if you do not wish to host. \nPlease list n your booking if you’d like to be involved and if you prefer matches home\, or away\, or either. \nWe will then organise a series of fixtures\, ideally with 3-4 schools per night during summer term.  Exact formats will depend on entries and will be confirmed after the deadline of 9th June \nWe will aim for 7-a-side\, squads of any size from year 4/5.  You may choose female or male pupils from year 6 to then referee. \nWe may also get the opportunity (should you wish) of playing an international match\, over the border in South Lakes\, or vice-versa! \nThis will be an opportunity to promote the upcoming Women’s Euros – School resources and presentations available here:  https://www.girlsfootballinschools.org/weuro2025.php \nPlease also remember to complete your Equal Access Survey to support the Lionesses campaign for equal access for girls- it only takes 2 minutes. Links available here: GFSP-039 Survey Links (3) \n 
URL:https://www.lhssn.co.uk/event/girls-euros-fixtures-at-your-schools/
CATEGORIES:LHSSN,School Games
ORGANIZER;CN="Steven Jamieson":MAILTO:jamieson.sm@gmail.com
END:VEVENT
BEGIN:VEVENT
DTSTART;TZID=UTC:20250609T093000
DTEND;TZID=UTC:20250609T160000
DTSTAMP:20260419T220801
CREATED:20250303T125057Z
LAST-MODIFIED:20250422T104527Z
UID:2362-1749461400-1749484800@www.lhssn.co.uk
SUMMARY:Mixed District Cricket Qualifiers LCB
DESCRIPTION:LHSSN Schools enter free\, non SSN schools £35 per team. \nAt Westgate & Torrisholme CC. Full day of Dynamos cricket in partnership with LCB to qualify for the County Finals 8th July at Ormskirk CC. \nStaff will be required to umpire and use the ‘Countdown Cricket’ app as in previous years.  Please download the app to your phones prior.  We will have support available on the day for any staff that are unsure. \nDeadline 1st June. Full details are as follows: \n Primary Cricket Lanc & Heysham 2025: \nDynamos_Schools_2025_-_How_to_Play[1] \nSchool_Games_Cricket_Skill_Card[1] \nDear PE Co-ordinator\, \nYou are invited to a Cricket Competition and qualifier for the Lancashire finals.  The events will be delivered in partnership with Lauren from the LCB and Lancaster & Heysham SSN.  It will follow the new Dynamos cricket format and the rules are attached. \nWhere:  Westgate and Torrisholme Cricket Clubs (park at either venue) \nWhen: \n10th June- Year 5/6 Girls only (8 players\, squads of up to 10) \n9th June- Year 5/6 Mixed (6 boys\, 2 girls\, squads of up to 10) \n(Reserve dates currently scheduled for 18th & 19th June) \nBoth 9.15/30 arrival for a 10.00 start.  With an approximate finish time of 2.30. \nIt is free entry to SSN member schools but non-members will be invoiced for £35 per team as a contribution to venue\, staffing\, equipment\, and prizes.  Max of 2 teams per event per school\, a member of staff or adult volunteer is required per team to help umpire and will need a mobile phone.  Please enter via our website www.lhssn.co.uk\, once for 1 team\, twice for 2. \nIf you have any questions on the new format or would like to book some sessions in preparation\, please contact Lauren at:  lburrow@lancashirecricket.co.uk  Lauren will be leading the events on the day with support from LHSSN staff. \nSchools may bring their own equipment if they wish\, though we will have our equipment there for any that need that (Plastic bats only\, no wooden bats allowed).   No pads required.  Spikes are allowed. \nSchool staff will be asked to umpire their games so will need 1 per team.  We will provide some training and support at the start of the day and will try to pair up ‘inexperienced and experienced’ staff.  The rules are very similar to kwik cricket\, Scoring is really easy and everything is done for you via the Countdown Cricket app which you’ll need on the day (please download to staff/school phones prior):  https://apps.apple.com/in/app/countdown-cricket/id1505679707 \nWe have used it the last 2 years to great feedback! \nCounty Final Dates\, for your information\, should you be successful are:  Mixed –  8th July: Girls – 9th July: Both at Northern Cricket Club\, Elm Avenue\, Crosby\, Liverpool\, L23 2SX. \nMany Thanks\, \nSteven Jamieson & Tim Fletcher \n 
URL:https://www.lhssn.co.uk/event/mixed-district-cricket-qualifiers-lcb/
CATEGORIES:LHSSN,School Games,District Qualifiers
ORGANIZER;CN="Steven Jamieson":MAILTO:jamieson.sm@gmail.com
END:VEVENT
BEGIN:VEVENT
DTSTART;TZID=UTC:20250610T093000
DTEND;TZID=UTC:20250610T160000
DTSTAMP:20260419T220801
CREATED:20250303T125502Z
LAST-MODIFIED:20250422T104933Z
UID:2370-1749547800-1749571200@www.lhssn.co.uk
SUMMARY:Girls Only District Cricket Qualifiers LCB
DESCRIPTION:LHSSN Schools enter free\, non SSN schools £35 per team. Girls only event. \n  \nAt Westgate & Torrisholme CC. Full day of Dynamos cricket in partnership with LCB to qualify for the County Finals 8th July at Ormskirk CC. \nStaff will be required to umpire and use the ‘Countdown Cricket’ app as in previous years.  Please download the app to your phones prior.  We will have support available on the day for any staff that are unsure. \nDeadline 1st June. Full details are as follows: \n Primary Cricket Lanc & Heysham 2025: \nDynamos_Schools_2025_-_How_to_Play[1] \nSchool_Games_Cricket_Skill_Card[1] \nDear PE Co-ordinator\, \nYou are invited to a Cricket Competition and qualifier for the Lancashire finals.  The events will be delivered in partnership with Lauren from the LCB and Lancaster & Heysham SSN.  It will follow the new Dynamos cricket format and the rules are attached. \nWhere:  Westgate and Torrisholme Cricket Clubs (park at either venue) \nWhen: \n10th June- Year 5/6 Girls only (8 players\, squads of up to 10) \n9th June- Year 5/6 Mixed (6 boys\, 2 girls\, squads of up to 10) \n(Reserve dates currently scheduled for 18th & 19th June) \nBoth 9.15/30 arrival for a 10.00 start.  With an approximate finish time of 2.30. \nIt is free entry to SSN member schools but non-members will be invoiced for £35 per team as a contribution to venue\, staffing\, equipment\, and prizes.  Max of 2 teams per event per school\, a member of staff or adult volunteer is required per team to help umpire and will need a mobile phone.  Please enter via our website www.lhssn.co.uk\, once for 1 team\, twice for 2. \nIf you have any questions on the new format or would like to book some sessions in preparation\, please contact Lauren at:  lburrow@lancashirecricket.co.uk  Lauren will be leading the events on the day with support from LHSSN staff. \nSchools may bring their own equipment if they wish\, though we will have our equipment there for any that need that (Plastic bats only\, no wooden bats allowed).   No pads required.  Spikes are allowed. \nSchool staff will be asked to umpire their games so will need 1 per team.  We will provide some training and support at the start of the day and will try to pair up ‘inexperienced and experienced’ staff.  The rules are very similar to kwik cricket\, Scoring is really easy and everything is done for you via the Countdown Cricket app which you’ll need on the day (please download to staff/school phones prior):  https://apps.apple.com/in/app/countdown-cricket/id1505679707 \nWe have used it the last 2 years to great feedback! \nCounty Final Dates\, for your information\, should you be successful are:  Mixed –  8th July: Girls – 9th July: Both at Northern Cricket Club\, Elm Avenue\, Crosby\, Liverpool\, L23 2SX. \nMany Thanks\, \nSteven Jamieson & Tim Fletcher
URL:https://www.lhssn.co.uk/event/girls-only-district-cricket-qualifiers-lcb/
CATEGORIES:LHSSN,School Games,District Qualifiers
ORGANIZER;CN="Steven Jamieson":MAILTO:jamieson.sm@gmail.com
END:VEVENT
BEGIN:VEVENT
DTSTART;TZID=UTC:20250616T093000
DTEND;TZID=UTC:20250616T143000
DTSTAMP:20260419T220801
CREATED:20250501T152126Z
LAST-MODIFIED:20250502T102043Z
UID:2797-1750066200-1750084200@www.lhssn.co.uk
SUMMARY:Lancaster Schools Tree-mendous Transition Survival day!
DESCRIPTION:  \nFor Lancaster Schools only as part of the School Games. \n  \nTransition Day @ The Health Innovation Campus\, Lancaster University! \nTransition Day 16th June 25 INVITE \n  \nDear Colleague\,   \nWe would like to invite your school to the new and exciting… Climate Action Transition Day 2025 taking place at Health Innovation One\, Lancaster University\, Bailrigg\, Lancaster\, LA1 4AT. This event will see children from across Lancaster come together to build confidence and self-esteem as they transition to high school. We would like schools to bring 6-8 children from KS2 and KS3\, specifically years 5\, year 6 and year 7 to take part in a ‘Climate Challenge Transition Day’ Venue specific information will follow upon registering for the event.  Pupils will step into a real life computer game type event! \n09:00 arrive for a 10:00 start and the event should finish no later than 14:30.The Transition Day will run in the midst of a post-apocalyptic climate crisis! Children must work together to solve puzzles\, learning about our local flora and fauna\, learning what plants and animals need to survive and thrive\, seeing things from different perspectives and working together to earn time in the mass group game at the end of the day. Think Crystal Maze meets Krypton Factor meets Mad Max!  \nSchools are encouraged to bring a targeted group of year 5/6/7 who perhaps don’t enjoy ‘traditional’ sports but may enjoy something different\, or those could struggle socially and emotionally.  We want to give children an experience that they may never have had before or again and build their confidence in order to aid transition to high school. \nIf you’d like to be involved\, please book via our website & see below for further details. For any more information please contact: \nLancaster Schools: Dan Morris- danmorrislhssn@gmail.com or Steven Jamieson- jamieson.sm@gmail.com \nWe look forward to hearing from you! \n  \nActivity Outcome \nFor children who are about to transition to high school and children who have recently transitioned to experience a challenge day working as part of a team in the beautiful surroundings of the Health Innovation Campus! The aim is to work through puzzles and problems in outdoor surroundings with a theme on our environment and climate action! \nPurpose \nFinding new ways to help children with the transition to high school   \nWho Is It for? \nYears 5\, 6\, 7 and 8 \nEntry Criteria  \nSchools should select between 6 – 8 pupils (mixed\, no ratio)- please just let us know how many you intend to bring when entering.  Schools are encouraged to select a targeted group who perhaps have low self-esteem or confidence and may find the transition from primary school to high school difficult. This event would also be good to build confidence with children who have recently transitioned to high school. \nFormat \nSchools will all meet at Health Innovation One where they will have chance to mingle with their fellow participants. They will then be briefed about the rules of the game. Instructions\, timesheets and score sheets will be given to the teams before they set off from the HIC on a pre planned route around the woodland trail of Lancaster Campus. Along the way\, they will encounter puzzles and problems to solve in order to earn ‘golden pine cones’ which earn time for the final game Hill of Hell! Think Crystal Maze meets Fallout meets Captain Planet! (for you oldies) Participants may be mixed between schools to encourage social connections.  \nEquipment  \nPlease come ready for outdoor activities in weather with trainers\, a drink and a packed lunch. \nLocation & Logistics \nActivities will take place at the HIC. There is paid parking but if you are arriving by minibus or coach then please do let us know when you are booking. There may be transport available depending on bookings. We will know closer to the time and once entries are in. \n  \nEvent details are as follows: \n\nArrive at 09:30 for a 10:00 start and finish at 14:30 at the latest.\nSchools encouraged to bring a mixture of team members and staff willing to participate and throw themselves into the role play and strategy part of the event\nWear outdoor clothes\, sturdy trainers or boots and a waterproof as all activities will be outside. Students are encouraged to rip or tear old clothes to enhance the ‘Apocalyptic Climate Emergency Survival feel’\nDate: 16th June (Deadline 13th June but may fill sooner so don’t delay!)\nVenue: Health Innovation One\, Lancaster University.\nPlease do not arrive more than 15 minutes before the start time.\nPlease can schools bring their own 1st Aid kits.\nAn adult will be needed to escort each school’s group\nIt will fill up fast!!! \n\n  \n\nThe activity is taking place at Health Innovation One\, Lancaster University\, Bailrigg\, Lancaster\, LA1 4AT\n\n–         Coaches; On arrival\, don’t park in the front car park\, please drive down the right hand side of the building\, at the top of the hill there is a hatched area for a drop off point.   \n–          Parking for coaches will be confirmed closer to the time. Please let us know if your minibus or coach will be staying for the duration of the event. \n–          There are water fountains\, vending machines and a vending coffee machine at the HIC for staff refreshments \n–          Although there are first aiders on site\, schools should bring their own first aid kits and school staff should be the first port of call. \n–          Please wear outdoor clothes and footwear \n Venue Map- Enter via steps shown by the star: \n 
URL:https://www.lhssn.co.uk/event/lancaster-schools-tree-mendous-transition-day/
CATEGORIES:LHSSN,School Games
ATTACH;FMTTYPE=image/jpeg:https://www.lhssn.co.uk/wp-content/uploads/2025/05/Survival.fw_.jpg
END:VEVENT
BEGIN:VEVENT
DTSTART;TZID=UTC:20250618T093000
DTEND;TZID=UTC:20250618T143000
DTSTAMP:20260419T220801
CREATED:20250606T062006Z
LAST-MODIFIED:20250606T062339Z
UID:3063-1750239000-1750257000@www.lhssn.co.uk
SUMMARY:Mixed District Cricket Qualifiers RESERVE DATE
DESCRIPTION:This is the booking for the reserve mixed cricket date previously scheduled for 9th June. Deadline 15/6 \n  \nLHSSN Schools enter free\, non SSN schools £35 per team. \nAt Westgate & Torrisholme CC. Full day of Dynamos cricket in partnership with LCB to qualify for the County Finals 8th July at Ormskirk CC. \nStaff will be required to umpire and use the ‘Countdown Cricket’ app as in previous years.  Please download the app to your phones prior.  We will have support available on the day for any staff that are unsure. \nDeadline 1st June. Full details are as follows on these links (please enusure staff accomplanying have the info\, some training will be given on the day): \n Primary Cricket Lanc & Heysham 2025: \nDynamos_Schools_2025_-_How_to_Play[1] \nSchool_Games_Cricket_Skill_Card[1] \nDear PE Co-ordinator\, \nYou are invited to a Cricket Competition and qualifier for the Lancashire finals.  The events will be delivered in partnership with Lauren from the LCB and Lancaster & Heysham SSN.  It will follow the new Dynamos cricket format and the rules are attached. \nWhere:  Westgate and Torrisholme Cricket Clubs (park at either venue) \nWhen: \n10th June- Year 5/6 Girls only (8 players\, squads of up to 10) \n9th June- Year 5/6 Mixed (6 boys\, 2 girls\, squads of up to 10) \n(Reserve dates currently scheduled for 18th & 19th June) \nBoth 9.15/30 arrival for a 10.00 start.  With an approximate finish time of 2.30. \nIt is free entry to SSN member schools but non-members will be invoiced for £35 per team as a contribution to venue\, staffing\, equipment\, and prizes.  Max of 2 teams per event per school\, a member of staff or adult volunteer is required per team to help umpire and will need a mobile phone.  Please enter via our website www.lhssn.co.uk\, once for 1 team\, twice for 2. \nIf you have any questions on the new format or would like to book some sessions in preparation\, please contact Lauren at:  lburrow@lancashirecricket.co.uk  Lauren will be leading the events on the day with support from LHSSN staff. \nSchools may bring their own equipment if they wish\, though we will have our equipment there for any that need that (Plastic bats only\, no wooden bats allowed).   No pads required.  Spikes are allowed. \nSchool staff will be asked to umpire their games so will need 1 per team.  We will provide some training and support at the start of the day and will try to pair up ‘inexperienced and experienced’ staff.  The rules are very similar to kwik cricket\, Scoring is really easy and everything is done for you via the Countdown Cricket app which you’ll need on the day (please download to staff/school phones prior):  https://apps.apple.com/in/app/countdown-cricket/id1505679707 \nWe have used it the last 2 years to great feedback! \nCounty Final Dates\, for your information\, should you be successful are:  Mixed –  8th July: Girls – 9th July: Both at Northern Cricket Club\, Elm Avenue\, Crosby\, Liverpool\, L23 2SX. \nMany Thanks\, \nSteven Jamieson & Tim Fletcher \n 
URL:https://www.lhssn.co.uk/event/mixed-district-cricket-qualifiers-reserve-date/
CATEGORIES:LHSSN,School Games,District Qualifiers
ORGANIZER;CN="Steven Jamieson":MAILTO:jamieson.sm@gmail.com
END:VEVENT
END:VCALENDAR