BEGIN:VCALENDAR
VERSION:2.0
PRODID:-//Lancaster &amp; Heysham School Sports Network - ECPv6.15.20//NONSGML v1.0//EN
CALSCALE:GREGORIAN
METHOD:PUBLISH
X-WR-CALNAME:Lancaster &amp; Heysham School Sports Network
X-ORIGINAL-URL:https://www.lhssn.co.uk
X-WR-CALDESC:Events for Lancaster &amp; Heysham School Sports Network
REFRESH-INTERVAL;VALUE=DURATION:PT1H
X-Robots-Tag:noindex
X-PUBLISHED-TTL:PT1H
BEGIN:VTIMEZONE
TZID:UTC
BEGIN:STANDARD
TZOFFSETFROM:+0000
TZOFFSETTO:+0000
TZNAME:UTC
DTSTART:20240101T000000
END:STANDARD
END:VTIMEZONE
BEGIN:VEVENT
DTSTART;TZID=UTC:20251202T090000
DTEND;TZID=UTC:20251202T160000
DTSTAMP:20260419T132300
CREATED:20250613T155241Z
LAST-MODIFIED:20251106T123042Z
UID:3103-1764666000-1764691200@www.lhssn.co.uk
SUMMARY:LHSSN PRIMARY PE CONFERENCE 2025-26
DESCRIPTION:Our Primary PE conference returns\, this year we have our BEST EVER speaker back! Lots of staff have now changed so we have invited back former Royal Marine Andy Grant who lost his leg and still went on to achieve great things! \nWe will also have a our usual updates\, teacher training\, and of course a lovely Christmas Lunch -Please check the menu below and book on and choose your menu choices via the Google document link! \nOur teacher training session will relate to Child Development and the importance of activity and play- and ways to get that into your schools. \n  \nCrooklands Hotel 9.00-4.00 \nChristmas Fayre 2025 – Steven Jamieson \nPlease book on and provide your menu choices via this link: \nhttps://docs.google.com/spreadsheets/d/1NqUGa6a5qr3Q51yMPiuojYTWB6XWoppI023J_-KLzgI/edit?usp=sharing \n  \n8.45-9.15 Registration: Arrival\, Teas & Coffees. \n9.15-10.15: Opening Address:  A brief welcome and updates from Steven Jamieson & Tim Fletcher including information from the Youth Sport Trust and National insight. \n10.15-10.50: Lancashire/National PE Update \n10.50-11.20: Break \n11.20-12.35 Guest Speaker:  Andy Grant \n12.35-12.50: School of the Year & Awards \n12.50-1.45 LUNCH (See Menu below for choices) \n1.45-2.15: Royal Ballet & Opera  \n2.15-3.15: A Playing Child is a Learning Child- Youth Sport Trust  \n3.15-4.00 Good Practice Share- Sum up & depart  Please complete all feedback forms before leaving
URL:https://www.lhssn.co.uk/event/lhssn-primary-pe-coneference/
CATEGORIES:LHSSN,School Games
ORGANIZER;CN="Steven Jamieson":MAILTO:jamieson.sm@gmail.com
END:VEVENT
BEGIN:VEVENT
DTSTART;TZID=UTC:20251204T100000
DTEND;TZID=UTC:20251204T123000
DTSTAMP:20260419T132300
CREATED:20250912T112332Z
LAST-MODIFIED:20251103T123500Z
UID:3301-1764842400-1764851400@www.lhssn.co.uk
SUMMARY:SG- 10 pin Bowling SEND Panathlon\, AM slot
DESCRIPTION:Booking for AM Slot. NOW FULL\, SPACE IN PM SLOT- please see PM Slot instead… \n  \nThe Panathlon Foundation\, www.panathlon\,com are a National Charity that delivers events for disabled young people are working alongside LHSSN. \n  \nWe have an evolving programme across Lancashire and the North-West region and are thrilled to be working with your School Games Organisers to enhance local opportunities for children living and educated in the Lancaster\, Morecambe and Heysham areas. \n  \nWe’d like to invite you to enter a Team in our\, ‘Ten Pin Bowling’ event\, which is one of our Pathway events. \n  \nPlease see Video clip: https://youtu.be/lPXbw7osGsE \n  \nPRIMARY EVENTS \nSchools can register to compete in either the Morning or Afternoon event.  Places are limited and entries will be accepted on a first come first served basis. \n  \nDate:                                        4th December \n  \nMorning Registration:  10am \nEvent Times:                              Team Briefing 10.15am\, Finishing by 12noon \nA Presentation will conclude the Competition \n  \nAfternoon Registration:           12.30pm \nEvent Time:                               Team Briefing 12.45pm\, Finishing by 2.30pm \nA Presentation will conclude the Competition \n  \nTeam:                                       Made up of Between 4 and 6 pupils (Ideally 6) \n                                                All pupils must be on the SEN Register \nVenue:                          Soul Bowl\, Central Promenade\, Morecambe\, LA4 4BU \n  \nThe top schools will be invited to represent the area in the Lancashire County Finals\, taking place in Blackburn in the New Year. The top placed Lancaster and top placed Heysham schools across the 2 sessions will go forward to the Lancashire round- You may win your session but may not go forward if the scores were higher in the other session. \nPlease also note that should a school pull out and we are unable to fill their lane\, they will be charged for the lane fee. \n  \nTo Enter:           Please complete the attached Team Card and return to Millielhssn@gmail.com \nTEAM CARD: \nLanc. MoreC. HeySh – Invite – Primary. Ten Pin Dec 2025 \n 
URL:https://www.lhssn.co.uk/event/sg-10-pin-bowling-send-panathlon-am-slot/
LOCATION:Soul Bowl
CATEGORIES:LHSSN,School Games
ORGANIZER;CN="Steven Jamieson":MAILTO:jamieson.sm@gmail.com
END:VEVENT
BEGIN:VEVENT
DTSTART;TZID=UTC:20251204T130000
DTEND;TZID=UTC:20251204T143000
DTSTAMP:20260419T132300
CREATED:20250912T112447Z
LAST-MODIFIED:20251117T140819Z
UID:3304-1764853200-1764858600@www.lhssn.co.uk
SUMMARY:SG- 10 pin Bowling SEND Panathlon\, PM slot
DESCRIPTION:*** NOW FULL*** \nBooking for PM Slot. \n  \nThe Panathlon Foundation\, www.panathlon\,com are a National Charity that delivers events for disabled young people are working alongside LHSSN. \n  \nWe have an evolving programme across Lancashire and the North-West region and are thrilled to be working with your School Games Organisers to enhance local opportunities for children living and educated in the Lancaster\, Morecambe and Heysham areas. \n  \nWe’d like to invite you to enter a Team in our\, ‘Ten Pin Bowling’ event\, which is one of our Pathway events. \n  \nPlease see Video clip: https://youtu.be/lPXbw7osGsE \n  \nPRIMARY EVENTS \nSchools can register to compete in either the Morning or Afternoon event.  Places are limited and entries will be accepted on a first come first served basis. \n  \nDate:                                        4th December \n  \nMorning Registration:  10am \nEvent Times:                              Team Briefing 10.15am\, Finishing by 12noon \nA Presentation will conclude the Competition \n  \nAfternoon Registration:           12.30pm \nEvent Time:                               Team Briefing 12.45pm\, Finishing by 2.30pm \nA Presentation will conclude the Competition \n  \nTeam:                                       Made up of Between 4 and 6 pupils (Ideally 6) \n                                                All pupils must be on the SEN Register \nVenue:                          Soul Bowl\, Central Promenade\, Morecambe\, LA4 4BU \n  \nThe top schools will be invited to represent the area in the Lancashire County Finals\, taking place in Blackburn in the New Year. The top placed Lancaster and top placed Heysham schools across the 2 sessions will go forward to the Lancashire round- You may win your session but may not go forward if the scores were higher in the other session. \nPlease also note that should a school pull out and we are unable to fill their lane\, they will be charged for the lane fee. \n  \nTo Enter:           Please complete the attached Team Card and return to Millielhssn@gmail.com \nTEAM CARD: \nLanc. MoreC. HeySh – Invite – Primary. Ten Pin Dec 2025 \n 
URL:https://www.lhssn.co.uk/event/sg-10-pin-bowling-send-panathlon-pm-slot/
LOCATION:Soul Bowl
CATEGORIES:LHSSN,School Games
ORGANIZER;CN="Steven Jamieson":MAILTO:jamieson.sm@gmail.com
END:VEVENT
BEGIN:VEVENT
DTSTART;TZID=UTC:20251208T080000
DTEND;TZID=UTC:20251208T170000
DTSTAMP:20260419T132300
CREATED:20250905T105315Z
LAST-MODIFIED:20250905T105315Z
UID:3236-1765180800-1765213200@www.lhssn.co.uk
SUMMARY:All- South Cumbria Dodgeball
DESCRIPTION:There are several local dodgeball qualifiers. We have picked out some of the more convenient ones… Please book on the links directly.  Each one is administered by British Dodgeball so any questions/entries must go to them directly.  Good luck!!! \n  \n8th December @ South Cumbria (QKS Kendal) \nhttps://britishdodgeball.org/events/tees-valley-primary-county-championship/ \n12th February @ North Lancashire @ Lancaster & Morecambe College \nNorth Lancashire Primary County Championship \n \n  \n17th March @ Ullswater \nNorth Cumbria Primary County Championship
URL:https://www.lhssn.co.uk/event/all-south-cumbria-dodgeball/
CATEGORIES:LHSSN,School Games,South Lakes
END:VEVENT
END:VCALENDAR