BEGIN:VCALENDAR
VERSION:2.0
PRODID:-//Lancaster &amp; Heysham School Sports Network - ECPv6.15.20//NONSGML v1.0//EN
CALSCALE:GREGORIAN
METHOD:PUBLISH
X-WR-CALNAME:Lancaster &amp; Heysham School Sports Network
X-ORIGINAL-URL:https://www.lhssn.co.uk
X-WR-CALDESC:Events for Lancaster &amp; Heysham School Sports Network
REFRESH-INTERVAL;VALUE=DURATION:PT1H
X-Robots-Tag:noindex
X-PUBLISHED-TTL:PT1H
BEGIN:VTIMEZONE
TZID:UTC
BEGIN:STANDARD
TZOFFSETFROM:+0000
TZOFFSETTO:+0000
TZNAME:UTC
DTSTART:20240101T000000
END:STANDARD
END:VTIMEZONE
BEGIN:VEVENT
DTSTART;TZID=UTC:20250407T090000
DTEND;TZID=UTC:20250407T150000
DTSTAMP:20260421T131322
CREATED:20250303T131021Z
LAST-MODIFIED:20250306T091520Z
UID:2373-1744016400-1744038000@www.lhssn.co.uk
SUMMARY:Easter Holiday Activities
DESCRIPTION:Details to be confirmed. Please share with your pupils. \n(Poster)
URL:https://www.lhssn.co.uk/event/easter-holiday-activities/
CATEGORIES:LHSSN,School Games
END:VEVENT
END:VCALENDAR