BEGIN:VCALENDAR
VERSION:2.0
PRODID:-//Lancaster &amp; Heysham School Sports Network - ECPv6.15.20//NONSGML v1.0//EN
CALSCALE:GREGORIAN
METHOD:PUBLISH
X-WR-CALNAME:Lancaster &amp; Heysham School Sports Network
X-ORIGINAL-URL:https://www.lhssn.co.uk
X-WR-CALDESC:Events for Lancaster &amp; Heysham School Sports Network
REFRESH-INTERVAL;VALUE=DURATION:PT1H
X-Robots-Tag:noindex
X-PUBLISHED-TTL:PT1H
BEGIN:VTIMEZONE
TZID:UTC
BEGIN:STANDARD
TZOFFSETFROM:+0000
TZOFFSETTO:+0000
TZNAME:UTC
DTSTART:20240101T000000
END:STANDARD
END:VTIMEZONE
BEGIN:VEVENT
DTSTART;TZID=UTC:20251002T153000
DTEND;TZID=UTC:20251002T173000
DTSTAMP:20260419T174803
CREATED:20250911T211943Z
LAST-MODIFIED:20250911T211943Z
UID:3281-1759419000-1759426200@www.lhssn.co.uk
SUMMARY:SSN KS2 Girls Futsal League 2nd\, 9th\, 16th October
DESCRIPTION:Please contact Barry should you wish to NOT attend any of the 3 sessions- \nThursday evenings\, October 2/9/16.  Otherwise\, if you enter we will assume you’d like to be considered for all 3 dates. \nbarryrobson07@gmail.com \n  \nDear PE Co-ordinator\nWe are excited to invite you to the recently introduced SSN element – Primary Sports Leagues. We\nare delivering various leagues\, one per term throughout this year\, the first of which is a KS2 Girls\nIndoor Futsal League.\nWe would like to invite your school to enter the LHSSN KS2 GIRLS FUTSAL LEAGUE. This league will\nbe played in the Lancaster & Morecambe College sports hall\, on Thursday evenings between\n4-5.15pm. Once we have collated entries\, we will organise fixtures\, where four schools will attend\nper evening and play each other once. This is girls only\, 5 a side\, with squads up to 7.\nCompetition details are as follows:\n● No spectators as they won’t fit in the hall.\n● The event will be delivered through the Tournify App – so everyone can keep up with live\nscores and tables.\n● Teams of 5\, squads of up to 7 (Choose team from KS2).\n● Date: Thursday evenings\, October 2/9/16\n● Venue: LM College Sports hall\n● Arrival from 3.50pm with first match kicking off around 4.00pm\n● Drop off and pick up from LMC events is off Torrisholme Road at the rear of College.\n● Finish time will be 5.15pm. Exact timings and format will be sent out to the competing\nschools straight after the deadline date.\n● 1 Team permitted per school\, you may request a second\, but they’ll only be allowed if there\nis space & will be first come-first served. When enrolling add your second team then I will\nconfirm if you have it on deadline entry day.\n● Schools should bring their own 1\nst Aid kits\n● PLEASE MAKE SURE PARTICIPANTS WEAR SHIN PADS AND TRAINERS This is the\nteacher’s responsibility to check.\n● Please can staff/parents park at the back of College off Torrisholme Road and walk\nyour teams around to the Sports hall.\nThe deadline entry date for this tournament is 26\nth September. Enter via the website –\nwww.lhssn.co.uk –This event is for SSN schools only.
URL:https://www.lhssn.co.uk/event/ssn-ks2-girls-futsal-league-2nd-9th-16th-october/
LOCATION:Lancaster & Morecambe College\, Morecambe Road\, Lancaster\, LA1 2TY\, United Kingdom
CATEGORIES:LHSSN,School Games
END:VEVENT
END:VCALENDAR