BEGIN:VCALENDAR
VERSION:2.0
PRODID:-//Lancaster &amp; Heysham School Sports Network - ECPv6.15.20//NONSGML v1.0//EN
CALSCALE:GREGORIAN
METHOD:PUBLISH
X-WR-CALNAME:Lancaster &amp; Heysham School Sports Network
X-ORIGINAL-URL:https://www.lhssn.co.uk
X-WR-CALDESC:Events for Lancaster &amp; Heysham School Sports Network
REFRESH-INTERVAL;VALUE=DURATION:PT1H
X-Robots-Tag:noindex
X-PUBLISHED-TTL:PT1H
BEGIN:VTIMEZONE
TZID:UTC
BEGIN:STANDARD
TZOFFSETFROM:+0000
TZOFFSETTO:+0000
TZNAME:UTC
DTSTART:20240101T000000
END:STANDARD
END:VTIMEZONE
BEGIN:VEVENT
DTSTART;TZID=UTC:20251014T100000
DTEND;TZID=UTC:20251014T120000
DTSTAMP:20260419T174801
CREATED:20250911T210709Z
LAST-MODIFIED:20250911T211027Z
UID:3271-1760436000-1760443200@www.lhssn.co.uk
SUMMARY:SSN 6/7/8 Teambuilding\, Problem Solving & Transition AM Slot
DESCRIPTION:AM Slot Booking  \nSchools should try to select a targeted group of pupils from years 6 & 7/8.  Again\, looking at your feedback\, social connections and transition are issues that we can hopefully help with.  It may be children that don’t have a lot of friends\, have issues with transition; we hope to help them all work together more effectively.   Lancaster and Morecambe College’s Public Services are going to prepare a series of challenges for your pupils to complete and enjoy- they will need to move around and work as a team! \n  \nSummary: \nA targeted group of pupils from year 6/7/8. \n  \nTeams: Groups of 6- may be boys\, girls or mixed. \n  \n14th October: 10.00-12.00   OR   1.00-3.00 \n  \n\nIndoors in the sportshall or outside please bring a suitable clothing and trainers (initially report to the sportshall- access via the usual reception/sportshall).\nActivities will be teambuilding\, problem solving and fun involving some physical activity.\nSchools should bring their own first aid kit and arrive\, pick up\, and park via the rear College entrance off Torrisholme for all events at LM College.  If you’re coming in\, & parking a minibus\, please advise us prior.\nNo Spectators.\nPlease arrive on time. Any problems please let us know.\n1 team per primary school\, 2 teams per secondary school- if you’d like additional groups please email and we will confirm after the deadline. It should be a targeted group not full classes.\nWe have a limit of 60 per session and it’ll be first come first served- once it’s full we will close bookings.   Please pick just 1 session per group they are repeated sessions.\n\n  \nThe deadline entry date is 5th October.
URL:https://www.lhssn.co.uk/event/ssn-6-7-8-teambuilding-problem-solving-transition-event/
LOCATION:Lancaster & Morecambe College\, Morecambe Road\, Lancaster\, LA1 2TY\, United Kingdom
CATEGORIES:LHSSN,Secondary Events,School Games
ORGANIZER;CN="Steven Jamieson":MAILTO:jamieson.sm@gmail.com
END:VEVENT
BEGIN:VEVENT
DTSTART;TZID=UTC:20251014T130000
DTEND;TZID=UTC:20251014T153000
DTSTAMP:20260419T174801
CREATED:20250911T210844Z
LAST-MODIFIED:20250911T210844Z
UID:3277-1760446800-1760455800@www.lhssn.co.uk
SUMMARY:SSN 6/7/8 Teambuilding\, Problem Solving & Transition PM SLOT
DESCRIPTION:PM Slot Booking  \nSchools should try to select a targeted group of pupils from years 6 & 7/8.  Again\, looking at your feedback\, social connections and transition are issues that we can hopefully help with.  It may be children that don’t have a lot of friends\, have issues with transition; we hope to help them all work together more effectively.   Lancaster and Morecambe College’s Public Services are going to prepare a series of challenges for your pupils to complete and enjoy- they will need to move around and work as a team! \n  \nSummary: \nA targeted group of pupils from year 6/7/8. \n  \nTeams: Groups of 6- may be boys\, girls or mixed. \n  \n14th October: 10.00-12.00   OR   1.00-3.00 \n  \n\nIndoors in the sportshall or outside please bring a suitable clothing and trainers (initially report to the sportshall- access via the usual reception/sportshall).\nActivities will be teambuilding\, problem solving and fun involving some physical activity.\nSchools should bring their own first aid kit and arrive\, pick up\, and park via the rear College entrance off Torrisholme for all events at LM College.  If you’re coming in\, & parking a minibus\, please advise us prior.\nNo Spectators.\nPlease arrive on time. Any problems please let us know.\n1 team per primary school\, 2 teams per secondary school- if you’d like additional groups please email and we will confirm after the deadline. It should be a targeted group not full classes.\nWe have a limit of 60 per session and it’ll be first come first served- once it’s full we will close bookings.   Please pick just 1 session per group they are repeated sessions.\n\n  \nThe deadline entry date is 5th October.
URL:https://www.lhssn.co.uk/event/ssn-6-7-8-teambuilding-problem-solving-transition-pm-slot/
LOCATION:Lancaster & Morecambe College\, Morecambe Road\, Lancaster\, LA1 2TY\, United Kingdom
CATEGORIES:LHSSN,Secondary Events,School Games
ORGANIZER;CN="Steven Jamieson":MAILTO:jamieson.sm@gmail.com
END:VEVENT
END:VCALENDAR