BEGIN:VCALENDAR
VERSION:2.0
PRODID:-//Lancaster &amp; Heysham School Sports Network - ECPv6.15.20//NONSGML v1.0//EN
CALSCALE:GREGORIAN
METHOD:PUBLISH
X-ORIGINAL-URL:https://www.lhssn.co.uk
X-WR-CALDESC:Events for Lancaster &amp; Heysham School Sports Network
REFRESH-INTERVAL;VALUE=DURATION:PT1H
X-Robots-Tag:noindex
X-PUBLISHED-TTL:PT1H
BEGIN:VTIMEZONE
TZID:UTC
BEGIN:STANDARD
TZOFFSETFROM:+0000
TZOFFSETTO:+0000
TZNAME:UTC
DTSTART:20250101T000000
END:STANDARD
END:VTIMEZONE
BEGIN:VEVENT
DTSTART;TZID=UTC:20260609T093000
DTEND;TZID=UTC:20260609T143000
DTSTAMP:20260423T115252
CREATED:20260302T103258Z
LAST-MODIFIED:20260302T103312Z
UID:4385-1780997400-1781015400@www.lhssn.co.uk
SUMMARY:Boys/Mixed 5/6 District Cricket Qualifier
DESCRIPTION:Qualifier for Lancashire’s Cricket competitions.  Boys/Mixed date- please note there are no minimum ratios of boys/girls for 2026- it can be all boys\, or all girls etc.  Deadline to enter 21st May. \nFull invite attached here: Primary Cricket Lanc & Heysham 2026 \nDynamos format here: Dynamos Schools 2026 – Rules & Regs \nOpen to all schools – Free to SSN\, non-SSN will be charged £35 per team.  None Lancashire schools may enter but will not be able to progress unfortunately. \nIn partnership with Lancashire Cricket Board. \nFollowing the Dynamos format and using the Countdown Cricket app- staff will be required\, per team\, to  score but training will be given at the start and you’ll be supported throughout.  It’s incredibly straightforward when using the app.  We have used this model for many years so please speak to previous staff if required. \nApp: \nApple: https://apps.apple.com/gb/app/countdown-cricket/id1505679707 \nAndroid: https://play.google.com/store/apps/details?id=uk.co.ecb.ccs&hl=en_GB
URL:https://www.lhssn.co.uk/event/boys-mixed-5-6-district-cricket-qualifier/
CATEGORIES:LHSSN,School Games,District Qualifiers
END:VEVENT
BEGIN:VEVENT
DTSTART;TZID=UTC:20260609T100000
DTEND;TZID=UTC:20260609T110000
DTSTAMP:20260423T115252
CREATED:20260423T093216Z
LAST-MODIFIED:20260423T094325Z
UID:4829-1780999200-1781002800@www.lhssn.co.uk
SUMMARY:SGO Resilience Runner: SLOT 2
DESCRIPTION:Resilience Runner invitation \nTough+Runner+Do+Something+Amazing \nTough_Runner_Schools_Info_Pack_25_26 \nResilience Runner event details: \n\nSpectators are welcome\nDate: Tuesday 9th June 2026\nVenue: Arkholme Village Field\, Kirkby Lonsdale Road\, Carnforth\, LA6 1AU. \nTeams of 6-8 KS2 pupils\nSchools may enter up to 2 teams each\nIntent: Targeted at pupils who need a boost in confidence\, resilience and teamwork\nPlease arrive for you slot on time\, your event will proceed at 15 past the hour.\nIt is summer\, but pupils should bring a change of clothing\nDeadline to enter is Tuesday 12th May\n\nPlease download full details from above.
URL:https://www.lhssn.co.uk/event/sgo-resilience-runner-slot-2/
LOCATION:Arkholme Primary School\, Arkholme\, Carnforth\, LA6 1AU\, United Kingdom
CATEGORIES:School Games
END:VEVENT
BEGIN:VEVENT
DTSTART;TZID=UTC:20260609T110000
DTEND;TZID=UTC:20260609T120000
DTSTAMP:20260423T115252
CREATED:20260423T093417Z
LAST-MODIFIED:20260423T094425Z
UID:4832-1781002800-1781006400@www.lhssn.co.uk
SUMMARY:SGO Resilience Runner: SLOT 3
DESCRIPTION:Resilience Runner invitation \nTough+Runner+Do+Something+Amazing \nTough_Runner_Schools_Info_Pack_25_26 \nResilience Runner event details: \n\nSpectators are welcome\nDate: Tuesday 9th June 2026\nVenue: Arkholme Village Field\, Kirkby Lonsdale Road\, Carnforth\, LA6 1AU. \nTeams of 6-8 KS2 pupils\nSchools may enter up to 2 teams each\nIntent: Targeted at pupils who need a boost in confidence\, resilience and teamwork\nPlease arrive for you slot on time\, your event will proceed at 15 past the hour.\nIt is summer\, but pupils should bring a change of clothing\nDeadline to enter is Tuesday 12th May\n\nPlease download full details from above.
URL:https://www.lhssn.co.uk/event/sgo-resilience-runner-slot-3/
LOCATION:Arkholme Primary School\, Arkholme\, Carnforth\, LA6 1AU\, United Kingdom
CATEGORIES:School Games
END:VEVENT
BEGIN:VEVENT
DTSTART;TZID=UTC:20260609T130000
DTEND;TZID=UTC:20260609T140000
DTSTAMP:20260423T115252
CREATED:20260423T094156Z
LAST-MODIFIED:20260423T094156Z
UID:4835-1781010000-1781013600@www.lhssn.co.uk
SUMMARY:SGO Resilience Runner: SLOT 4
DESCRIPTION:Resilience Runner invitation \nTough+Runner+Do+Something+Amazing \nTough_Runner_Schools_Info_Pack_25_26 \nResilience Runner event details: \n\nSpectators are welcome\nDate: Tuesday 9th June 2026\nVenue: Arkholme Village Field\, Kirkby Lonsdale Road\, Carnforth\, LA6 1AU. \nTeams of 6-8 KS2 pupils\nSchools may enter up to 2 teams each\nIntent: Targeted at pupils who need a boost in confidence\, resilience and teamwork\nPlease arrive for you slot on time\, your event will proceed at 15 past the hour.\nIt is summer\, but pupils should bring a change of clothing\nDeadline to enter is Tuesday 12th May\n\nPlease download full details from above.
URL:https://www.lhssn.co.uk/event/sgo-resilience-runner-slot-4/
LOCATION:Arkholme Primary School\, Arkholme\, Carnforth\, LA6 1AU\, United Kingdom
CATEGORIES:School Games
END:VEVENT
BEGIN:VEVENT
DTSTART;TZID=UTC:20260609T140000
DTEND;TZID=UTC:20260609T150000
DTSTAMP:20260423T115252
CREATED:20260423T094653Z
LAST-MODIFIED:20260423T094653Z
UID:4842-1781013600-1781017200@www.lhssn.co.uk
SUMMARY:SGO Resilience Runner: SLOT 5
DESCRIPTION:Resilience Runner invitation \nTough+Runner+Do+Something+Amazing \nTough_Runner_Schools_Info_Pack_25_26 \nResilience Runner event details: \n\nSpectators are welcome\nDate: Tuesday 9th June 2026\nVenue: Arkholme Village Field\, Kirkby Lonsdale Road\, Carnforth\, LA6 1AU. \nTeams of 6-8 KS2 pupils\nSchools may enter up to 2 teams each\nIntent: Targeted at pupils who need a boost in confidence\, resilience and teamwork\nPlease arrive for you slot on time\, your event will proceed at 15 past the hour.\nIt is summer\, but pupils should bring a change of clothing\nDeadline to enter is Tuesday 12th May\n\nPlease download full details from above.
URL:https://www.lhssn.co.uk/event/sgo-resilience-runner-slot-5/
LOCATION:Arkholme Primary School\, Arkholme\, Carnforth\, LA6 1AU\, United Kingdom
CATEGORIES:School Games
END:VEVENT
BEGIN:VEVENT
DTSTART;TZID=UTC:20260707T080000
DTEND;TZID=UTC:20260707T170000
DTSTAMP:20260423T115252
CREATED:20260206T132014Z
LAST-MODIFIED:20260206T132108Z
UID:4326-1783411200-1783443600@www.lhssn.co.uk
SUMMARY:Royal Ballet National Mass Dance Day
DESCRIPTION:An online video and mass dance in your own schools in support of children’s rights as part of our wider work with The Royal Ballet.  For info and to register… \n  \nhttps://www.rbo.org.uk/schools/resource/danceforrights?utm_source=database&utm_medium=email&utm_term=25_26_create_day_26_edco&utm_content=dance_for_rights_launch_feb&dm_t=0\,0\,0\,0\,0\,0\,0\,0 \n  \n  \nWhen?\nTuesday 7th July 2026 \n\nWhere?\nJoin from your classroom or book your school hall so your children have lots of space to dance. \n\nWhy take part?\nThis is more than a dance — it’s a powerful shared experience that helps children: \n\nUnderstand children’s rights in an active\, memorable way\nFeel part of something bigger\, dancing alongside schools nationwide\nBuild confidence and teamwork through learning and dancing together\nExperience world-class arts education\, led by professional artists from the Royal Ballet\n\n\n\n\nFor teachers\, it’s a simple\, high-impact way to: \n\nBring the UNCRC to life through creative learning\nDeliver high-quality dance with expert guidance and support\nTake part in a national event with minimal preparation\nInspire pupils through a unique\, joyful\, and inclusive experience\n\n\nHow it works?\n\nOnce signed up\, schools receive two hours of ready-to-use prep lessons ahead of the event\nTeachers are invited to a live online introductory session on Wednesday 11th March 4-4:45 to support prep lessons delivery and logistics for joining (available online on demand)\nPupils learn accessible\, inclusive movement linked to key UNCRC themes\nOn the day\, classes come together live\, dancing simultaneously with schools across the country\nThe main event is hosted and streamed live from the Royal Opera House\, creating a truly unforgettable moment for pupils and teachers alike\n\n\nSchedule:\n\nStarting at: 9:15am – 10:15\nBreak: 10:15 – 10:30\nFinishing: 10:30 – 11:30\n\n\nNo travel. No cost. Just sign up\, clear a space to dance together. \n 
URL:https://www.lhssn.co.uk/event/royal-ballet-national-mass-dance-day/
CATEGORIES:LHSSN,Secondary Events,School Games,South Lakes
END:VEVENT
END:VCALENDAR